Package: RBioFormats Version: 1.11.0 Command: rm -rf RBioFormats.buildbin-libdir && mkdir RBioFormats.buildbin-libdir && /Users/biocbuild/BBS/utils/build-universal.sh RBioFormats_1.11.0.tar.gz /Library/Frameworks/R.framework/Resources/bin/R RBioFormats.buildbin-libdir StartedAt: 2025-11-13 23:52:00 -0500 (Thu, 13 Nov 2025) EndedAt: 2025-11-13 23:52:06 -0500 (Thu, 13 Nov 2025) EllapsedTime: 5.2 seconds RetCode: 0 Status: OK PackageFile: RBioFormats_1.11.0.tgz PackageFileSize: 524.7 KiB