Package: RBioFormats Version: 1.11.0 Maintainer: Andrzej OleÅ› MaintainerEmail: andrzej.oles at gmail.com git_url: https://git.bioconductor.org/packages/RBioFormats git_branch: devel git_last_commit: fa3ee7d git_last_commit_date: 2025-10-29 11:20:28 -0500 (Wed, 29 Oct 2025)