Package: RBGL Version: 1.87.0 Command: /home/biocbuild/bbs-3.23-bioc/R/bin/R CMD INSTALL RBGL StartedAt: 2025-11-14 15:12:51 -0500 (Fri, 14 Nov 2025) EndedAt: 2025-11-14 15:14:39 -0500 (Fri, 14 Nov 2025) EllapsedTime: 108.1 seconds RetCode: 0 Status: OK