Package: RBGL Version: 1.87.0 Command: /Library/Frameworks/R.framework/Resources/bin/R CMD INSTALL RBGL StartedAt: 2025-11-14 15:07:15 -0500 (Fri, 14 Nov 2025) EndedAt: 2025-11-14 15:07:44 -0500 (Fri, 14 Nov 2025) EllapsedTime: 28.1 seconds RetCode: 0 Status: OK