Package: RBGL Version: 1.87.0 Command: /Library/Frameworks/R.framework/Resources/bin/R CMD build --keep-empty-dirs --no-resave-data RBGL StartedAt: 2025-11-14 17:23:09 -0500 (Fri, 14 Nov 2025) EndedAt: 2025-11-14 17:23:44 -0500 (Fri, 14 Nov 2025) EllapsedTime: 35.4 seconds RetCode: 0 Status: OK PackageFile: RBGL_1.87.0.tar.gz PackageFileSize: 2.964 MiB