Package: RAREsim Version: 1.15.0 Command: /home/biocbuild/bbs-3.23-bioc/R/bin/R CMD INSTALL RAREsim StartedAt: 2025-11-14 15:04:45 -0500 (Fri, 14 Nov 2025) EndedAt: 2025-11-14 15:04:59 -0500 (Fri, 14 Nov 2025) EllapsedTime: 14.0 seconds RetCode: 0 Status: OK