Package: RAREsim Version: 1.15.0 Maintainer: Ryan Barnard MaintainerEmail: rbarnard1107 at gmail.com git_url: https://git.bioconductor.org/packages/RAREsim git_branch: devel git_last_commit: 77919c8 git_last_commit_date: 2025-10-29 11:16:51 -0500 (Wed, 29 Oct 2025)