Package: R4RNA Version: 1.39.0 Command: /home/biocbuild/bbs-3.23-bioc/R/bin/R CMD INSTALL R4RNA StartedAt: 2025-11-14 15:31:21 -0500 (Fri, 14 Nov 2025) EndedAt: 2025-11-14 15:31:31 -0500 (Fri, 14 Nov 2025) EllapsedTime: 10.1 seconds RetCode: 0 Status: OK