Package: R4RNA Version: 1.39.0 Command: /Library/Frameworks/R.framework/Resources/bin/R CMD INSTALL R4RNA StartedAt: 2025-11-13 15:08:44 -0500 (Thu, 13 Nov 2025) EndedAt: 2025-11-13 15:08:48 -0500 (Thu, 13 Nov 2025) EllapsedTime: 3.9 seconds RetCode: 0 Status: OK