Package: R4RNA Version: 1.39.0 Maintainer: Daniel Lai MaintainerEmail: jujubix at cs.ubc.ca git_url: https://git.bioconductor.org/packages/R4RNA git_branch: devel git_last_commit: b949aed git_last_commit_date: 2025-10-29 10:28:37 -0500 (Wed, 29 Oct 2025)