Package: R453Plus1Toolbox Version: 1.61.0 Command: /home/biocbuild/bbs-3.23-bioc/R/bin/R CMD INSTALL R453Plus1Toolbox StartedAt: 2025-11-13 15:52:08 -0500 (Thu, 13 Nov 2025) EndedAt: 2025-11-13 15:53:19 -0500 (Thu, 13 Nov 2025) EllapsedTime: 70.8 seconds RetCode: 0 Status: OK