Package: R453Plus1Toolbox Version: 1.61.0 Command: /Library/Frameworks/R.framework/Resources/bin/R CMD INSTALL R453Plus1Toolbox StartedAt: 2025-11-12 15:39:56 -0500 (Wed, 12 Nov 2025) EndedAt: 2025-11-12 15:40:23 -0500 (Wed, 12 Nov 2025) EllapsedTime: 27.2 seconds RetCode: 0 Status: OK