Package: R453Plus1Toolbox Version: 1.61.0 Command: /Library/Frameworks/R.framework/Resources/bin/R CMD build --keep-empty-dirs --no-resave-data R453Plus1Toolbox StartedAt: 2025-11-13 17:25:10 -0500 (Thu, 13 Nov 2025) EndedAt: 2025-11-13 17:25:46 -0500 (Thu, 13 Nov 2025) EllapsedTime: 35.4 seconds RetCode: 1 Status: ERROR PackageFile: None PackageFileSize: NA