Package: R453Plus1Toolbox Version: 1.61.0 Maintainer: Hans-Ulrich Klein MaintainerEmail: h.klein at uni-muenster.de git_url: https://git.bioconductor.org/packages/R453Plus1Toolbox git_branch: devel git_last_commit: b396ba9 git_last_commit_date: 2025-10-29 10:06:02 -0500 (Wed, 29 Oct 2025)