Package: R3CPET Version: 1.43.0 Command: /home/biocbuild/bbs-3.23-bioc/R/bin/R CMD build --keep-empty-dirs --no-resave-data R3CPET StartedAt: 2025-11-14 19:27:05 -0500 (Fri, 14 Nov 2025) EndedAt: 2025-11-14 19:28:46 -0500 (Fri, 14 Nov 2025) EllapsedTime: 101.1 seconds RetCode: 0 Status: OK PackageFile: R3CPET_1.43.0.tar.gz PackageFileSize: 5.081 MiB