Package: QuaternaryProd Version: 1.45.0 Command: /home/biocbuild/bbs-3.23-bioc/R/bin/R CMD check --install=check:QuaternaryProd.install-out.txt --library=/home/biocbuild/bbs-3.23-bioc/R/site-library --timings QuaternaryProd_1.45.0.tar.gz StartedAt: 2025-11-14 02:58:34 -0500 (Fri, 14 Nov 2025) EndedAt: 2025-11-14 02:59:25 -0500 (Fri, 14 Nov 2025) EllapsedTime: 51.1 seconds RetCode: 0 Status: OK CheckDir: QuaternaryProd.Rcheck Warnings: 0