Package: QuaternaryProd Version: 1.45.0 Command: /home/biocbuild/bbs-3.23-bioc/R/bin/R CMD build --keep-empty-dirs --no-resave-data QuaternaryProd StartedAt: 2025-11-13 19:26:36 -0500 (Thu, 13 Nov 2025) EndedAt: 2025-11-13 19:32:17 -0500 (Thu, 13 Nov 2025) EllapsedTime: 340.3 seconds RetCode: 0 Status: OK PackageFile: QuaternaryProd_1.45.0.tar.gz PackageFileSize: 10.75 MiB