Package: QuaternaryProd Version: 1.45.0 Command: /Library/Frameworks/R.framework/Resources/bin/R CMD check --install=check:QuaternaryProd.install-out.txt --library=/Library/Frameworks/R.framework/Resources/library --no-vignettes --timings QuaternaryProd_1.45.0.tar.gz StartedAt: 2025-11-14 21:53:29 -0500 (Fri, 14 Nov 2025) EndedAt: 2025-11-14 21:53:59 -0500 (Fri, 14 Nov 2025) EllapsedTime: 30.4 seconds RetCode: 0 Status: OK CheckDir: QuaternaryProd.Rcheck Warnings: 0