Package: QuasR Version: 1.51.0 Command: /Library/Frameworks/R.framework/Resources/bin/R CMD INSTALL QuasR StartedAt: 2025-11-12 15:45:00 -0500 (Wed, 12 Nov 2025) EndedAt: 2025-11-12 15:45:26 -0500 (Wed, 12 Nov 2025) EllapsedTime: 26.2 seconds RetCode: 0 Status: OK