Package: QuasR Version: 1.51.0 Command: /Library/Frameworks/R.framework/Resources/bin/R CMD build --keep-empty-dirs --no-resave-data QuasR StartedAt: 2025-11-12 17:00:33 -0500 (Wed, 12 Nov 2025) EndedAt: 2025-11-12 17:02:27 -0500 (Wed, 12 Nov 2025) EllapsedTime: 113.4 seconds RetCode: 0 Status: OK PackageFile: QuasR_1.51.0.tar.gz PackageFileSize: 2.407 MiB