Package: QuasR Version: 1.51.0 Maintainer: Michael Stadler MaintainerEmail: michael.stadler at fmi.ch git_url: https://git.bioconductor.org/packages/QuasR git_branch: devel git_last_commit: 331f3b2 git_last_commit_date: 2025-10-29 10:13:16 -0500 (Wed, 29 Oct 2025)