Package: QTLExperiment Version: 2.3.0 Command: /Library/Frameworks/R.framework/Resources/bin/R CMD INSTALL QTLExperiment StartedAt: 2025-11-16 15:15:50 -0500 (Sun, 16 Nov 2025) EndedAt: 2025-11-16 15:16:00 -0500 (Sun, 16 Nov 2025) EllapsedTime: 10.5 seconds RetCode: 0 Status: OK