Package: QTLExperiment Version: 2.3.0 Command: /Library/Frameworks/R.framework/Resources/bin/R CMD build --keep-empty-dirs --no-resave-data QTLExperiment StartedAt: 2025-11-16 17:22:44 -0500 (Sun, 16 Nov 2025) EndedAt: 2025-11-16 17:23:00 -0500 (Sun, 16 Nov 2025) EllapsedTime: 16.2 seconds RetCode: 0 Status: OK PackageFile: QTLExperiment_2.3.0.tar.gz PackageFileSize: 613.5 KiB