Package: QTLExperiment Version: 2.3.0 Command: rm -rf QTLExperiment.buildbin-libdir && mkdir QTLExperiment.buildbin-libdir && /Users/biocbuild/BBS/utils/build-universal.sh QTLExperiment_2.3.0.tar.gz /Library/Frameworks/R.framework/Resources/bin/R QTLExperiment.buildbin-libdir StartedAt: 2025-11-16 23:47:52 -0500 (Sun, 16 Nov 2025) EndedAt: 2025-11-16 23:48:05 -0500 (Sun, 16 Nov 2025) EllapsedTime: 13.3 seconds RetCode: 0 Status: OK PackageFile: QTLExperiment_2.3.0.tgz PackageFileSize: 1.144 MiB