Package: QSutils Version: 1.29.0 Command: /home/biocbuild/bbs-3.23-bioc/R/bin/R CMD INSTALL QSutils StartedAt: 2025-11-11 15:54:45 -0500 (Tue, 11 Nov 2025) EndedAt: 2025-11-11 15:54:57 -0500 (Tue, 11 Nov 2025) EllapsedTime: 11.6 seconds RetCode: 0 Status: OK