Package: QSutils Version: 1.29.0 Command: /Library/Frameworks/R.framework/Resources/bin/R CMD INSTALL QSutils StartedAt: 2025-11-13 15:28:45 -0500 (Thu, 13 Nov 2025) EndedAt: 2025-11-13 15:28:50 -0500 (Thu, 13 Nov 2025) EllapsedTime: 5.2 seconds RetCode: 0 Status: OK