Package: QSutils Version: 1.29.0 Command: /Library/Frameworks/R.framework/Resources/bin/R CMD build --keep-empty-dirs --no-resave-data QSutils StartedAt: 2025-11-13 17:24:37 -0500 (Thu, 13 Nov 2025) EndedAt: 2025-11-13 17:25:16 -0500 (Thu, 13 Nov 2025) EllapsedTime: 39.5 seconds RetCode: 0 Status: OK PackageFile: QSutils_1.29.0.tar.gz PackageFileSize: 1.322 MiB