Package: QSutils Version: 1.29.0 Command: rm -rf QSutils.buildbin-libdir && mkdir QSutils.buildbin-libdir && /Users/biocbuild/BBS/utils/build-universal.sh QSutils_1.29.0.tar.gz /Library/Frameworks/R.framework/Resources/bin/R QSutils.buildbin-libdir StartedAt: 2025-11-13 23:51:34 -0500 (Thu, 13 Nov 2025) EndedAt: 2025-11-13 23:51:40 -0500 (Thu, 13 Nov 2025) EllapsedTime: 6.1 seconds RetCode: 0 Status: OK PackageFile: QSutils_1.29.0.tgz PackageFileSize: 1.442 MiB