Package: QSutils Version: 1.29.0 Maintainer: Mercedes Guerrero-Murillo MaintainerEmail: mergumu at gmail.com git_url: https://git.bioconductor.org/packages/QSutils git_branch: devel git_last_commit: 23b420d git_last_commit_date: 2025-10-29 10:48:23 -0500 (Wed, 29 Oct 2025)