Package: QFeatures Version: 1.21.0 Command: /Library/Frameworks/R.framework/Resources/bin/R CMD INSTALL QFeatures StartedAt: 2025-11-13 15:20:24 -0500 (Thu, 13 Nov 2025) EndedAt: 2025-11-13 15:20:37 -0500 (Thu, 13 Nov 2025) EllapsedTime: 12.1 seconds RetCode: 0 Status: OK