Package: QDNAseq Version: 1.47.0 Command: /Library/Frameworks/R.framework/Resources/bin/R CMD INSTALL QDNAseq StartedAt: 2025-11-13 15:10:43 -0500 (Thu, 13 Nov 2025) EndedAt: 2025-11-13 15:10:50 -0500 (Thu, 13 Nov 2025) EllapsedTime: 6.6 seconds RetCode: 0 Status: OK