Package: QDNAseq Version: 1.47.0 Command: rm -rf QDNAseq.buildbin-libdir && mkdir QDNAseq.buildbin-libdir && /Users/biocbuild/BBS/utils/build-universal.sh QDNAseq_1.47.0.tar.gz /Library/Frameworks/R.framework/Resources/bin/R QDNAseq.buildbin-libdir StartedAt: 2025-11-13 23:51:29 -0500 (Thu, 13 Nov 2025) EndedAt: 2025-11-13 23:51:38 -0500 (Thu, 13 Nov 2025) EllapsedTime: 9.2 seconds RetCode: 0 Status: OK PackageFile: QDNAseq_1.47.0.tgz PackageFileSize: 1.533 MiB