Package: QDNAseq Version: 1.47.0 Maintainer: Daoud Sie MaintainerEmail: d.sie at vumc.nl git_url: https://git.bioconductor.org/packages/QDNAseq git_branch: devel git_last_commit: 2bb3c9e git_last_commit_date: 2025-10-29 10:18:34 -0500 (Wed, 29 Oct 2025)