Package: Pviz Version: 1.45.0 Command: /home/biocbuild/bbs-3.23-bioc/R/bin/R CMD INSTALL Pviz StartedAt: 2025-11-11 15:51:57 -0500 (Tue, 11 Nov 2025) EndedAt: 2025-11-11 15:53:21 -0500 (Tue, 11 Nov 2025) EllapsedTime: 83.6 seconds RetCode: 0 Status: OK