Package: Pviz Version: 1.45.0 Command: /home/biocbuild/bbs-3.23-bioc/R/bin/R CMD build --keep-empty-dirs --no-resave-data Pviz StartedAt: 2025-11-13 19:24:10 -0500 (Thu, 13 Nov 2025) EndedAt: 2025-11-13 19:25:58 -0500 (Thu, 13 Nov 2025) EllapsedTime: 108.1 seconds RetCode: 0 Status: OK PackageFile: Pviz_1.45.0.tar.gz PackageFileSize: 203.8 KiB