Package: Pviz Version: 1.45.0 Command: /Library/Frameworks/R.framework/Resources/bin/R CMD INSTALL Pviz StartedAt: 2025-11-13 15:26:17 -0500 (Thu, 13 Nov 2025) EndedAt: 2025-11-13 15:26:52 -0500 (Thu, 13 Nov 2025) EllapsedTime: 34.8 seconds RetCode: 0 Status: OK