Package: Pviz Version: 1.45.0 Command: /Library/Frameworks/R.framework/Resources/bin/R CMD build --keep-empty-dirs --no-resave-data Pviz StartedAt: 2025-11-12 16:59:57 -0500 (Wed, 12 Nov 2025) EndedAt: 2025-11-12 17:00:47 -0500 (Wed, 12 Nov 2025) EllapsedTime: 50.7 seconds RetCode: 0 Status: OK PackageFile: Pviz_1.45.0.tar.gz PackageFileSize: 203.7 KiB