Package: Pviz Version: 1.45.0 Command: rm -rf Pviz.buildbin-libdir && mkdir Pviz.buildbin-libdir && /Users/biocbuild/BBS/utils/build-universal.sh Pviz_1.45.0.tar.gz /Library/Frameworks/R.framework/Resources/bin/R Pviz.buildbin-libdir StartedAt: 2025-11-12 21:06:54 -0500 (Wed, 12 Nov 2025) EndedAt: 2025-11-12 21:07:35 -0500 (Wed, 12 Nov 2025) EllapsedTime: 40.9 seconds RetCode: 0 Status: OK PackageFile: Pviz_1.45.0.tgz PackageFileSize: 670.8 KiB