Package: Pviz Version: 1.45.0 Maintainer: Renan Sauteraud MaintainerEmail: rsautera at fhcrc.org git_url: https://git.bioconductor.org/packages/Pviz git_branch: devel git_last_commit: 2605bdc git_last_commit_date: 2025-10-29 10:20:19 -0500 (Wed, 29 Oct 2025)