Package: PureCN Version: 2.17.0 Command: /Library/Frameworks/R.framework/Resources/bin/R CMD INSTALL PureCN StartedAt: 2025-11-14 15:24:00 -0500 (Fri, 14 Nov 2025) EndedAt: 2025-11-14 15:24:21 -0500 (Fri, 14 Nov 2025) EllapsedTime: 21.1 seconds RetCode: 0 Status: OK