Package: PureCN Version: 2.17.0 Command: /Library/Frameworks/R.framework/Resources/bin/R CMD build --keep-empty-dirs --no-resave-data PureCN StartedAt: 2025-11-14 17:20:49 -0500 (Fri, 14 Nov 2025) EndedAt: 2025-11-14 17:22:26 -0500 (Fri, 14 Nov 2025) EllapsedTime: 96.2 seconds RetCode: 0 Status: OK PackageFile: PureCN_2.17.0.tar.gz PackageFileSize: 5.723 MiB