Package: PureCN Version: 2.17.0 Command: rm -rf PureCN.buildbin-libdir && mkdir PureCN.buildbin-libdir && /Users/biocbuild/BBS/utils/build-universal.sh PureCN_2.17.0.tar.gz /Library/Frameworks/R.framework/Resources/bin/R PureCN.buildbin-libdir StartedAt: 2025-11-13 23:51:19 -0500 (Thu, 13 Nov 2025) EndedAt: 2025-11-13 23:51:44 -0500 (Thu, 13 Nov 2025) EllapsedTime: 25.6 seconds RetCode: 0 Status: OK PackageFile: PureCN_2.17.0.tgz PackageFileSize: 6.186 MiB