Package: ProteoMM Version: 1.29.0 Command: /Library/Frameworks/R.framework/Resources/bin/R CMD INSTALL ProteoMM StartedAt: 2025-11-18 15:19:54 -0500 (Tue, 18 Nov 2025) EndedAt: 2025-11-18 15:19:57 -0500 (Tue, 18 Nov 2025) EllapsedTime: 3.1 seconds RetCode: 0 Status: OK