Package: ProteoMM Version: 1.29.0 Command: /Library/Frameworks/R.framework/Resources/bin/R CMD build --keep-empty-dirs --no-resave-data ProteoMM StartedAt: 2025-11-16 17:21:24 -0500 (Sun, 16 Nov 2025) EndedAt: 2025-11-16 17:21:37 -0500 (Sun, 16 Nov 2025) EllapsedTime: 13.2 seconds RetCode: 0 Status: OK PackageFile: ProteoMM_1.29.0.tar.gz PackageFileSize: 510.5 KiB