Package: ProteoMM Version: 1.29.0 Command: rm -rf ProteoMM.buildbin-libdir && mkdir ProteoMM.buildbin-libdir && /Users/biocbuild/BBS/utils/build-universal.sh ProteoMM_1.29.0.tar.gz /Library/Frameworks/R.framework/Resources/bin/R ProteoMM.buildbin-libdir StartedAt: 2025-11-16 23:47:30 -0500 (Sun, 16 Nov 2025) EndedAt: 2025-11-16 23:47:34 -0500 (Sun, 16 Nov 2025) EllapsedTime: 4.1 seconds RetCode: 0 Status: OK PackageFile: ProteoMM_1.29.0.tgz PackageFileSize: 625.1 KiB