Package: ProtGenerics Version: 1.43.0 Command: /home/biocbuild/bbs-3.23-bioc/R/bin/R CMD build --keep-empty-dirs --no-resave-data ProtGenerics StartedAt: 2025-11-13 19:23:24 -0500 (Thu, 13 Nov 2025) EndedAt: 2025-11-13 19:23:25 -0500 (Thu, 13 Nov 2025) EllapsedTime: 1.0 seconds RetCode: 0 Status: OK PackageFile: ProtGenerics_1.43.0.tar.gz PackageFileSize: 10.87 KiB