Package: ProtGenerics Version: 1.43.0 Command: /Library/Frameworks/R.framework/Resources/bin/R CMD INSTALL ProtGenerics StartedAt: 2025-11-13 15:01:38 -0500 (Thu, 13 Nov 2025) EndedAt: 2025-11-13 15:01:41 -0500 (Thu, 13 Nov 2025) EllapsedTime: 2.5 seconds RetCode: 0 Status: OK