Package: ProtGenerics Version: 1.43.0 Command: /Library/Frameworks/R.framework/Resources/bin/R CMD build --keep-empty-dirs --no-resave-data ProtGenerics StartedAt: 2025-11-13 17:23:35 -0500 (Thu, 13 Nov 2025) EndedAt: 2025-11-13 17:23:36 -0500 (Thu, 13 Nov 2025) EllapsedTime: 1.0 seconds RetCode: 0 Status: OK PackageFile: ProtGenerics_1.43.0.tar.gz PackageFileSize: 10.88 KiB