Package: ProtGenerics Version: 1.43.0 Command: rm -rf ProtGenerics.buildbin-libdir && mkdir ProtGenerics.buildbin-libdir && /Users/biocbuild/BBS/utils/build-universal.sh ProtGenerics_1.43.0.tar.gz /Library/Frameworks/R.framework/Resources/bin/R ProtGenerics.buildbin-libdir StartedAt: 2025-11-13 23:51:16 -0500 (Thu, 13 Nov 2025) EndedAt: 2025-11-13 23:51:20 -0500 (Thu, 13 Nov 2025) EllapsedTime: 3.1 seconds RetCode: 0 Status: OK PackageFile: ProtGenerics_1.43.0.tgz PackageFileSize: 247.8 KiB