Package: Prostar Version: 1.43.0 Command: /home/biocbuild/bbs-3.23-bioc/R/bin/R CMD build --keep-empty-dirs --no-resave-data Prostar StartedAt: 2025-11-14 19:22:51 -0500 (Fri, 14 Nov 2025) EndedAt: 2025-11-14 19:23:34 -0500 (Fri, 14 Nov 2025) EllapsedTime: 43.0 seconds RetCode: 0 Status: OK PackageFile: Prostar_1.43.0.tar.gz PackageFileSize: 4.2 MiB